BEGIN:VCALENDAR
VERSION:2.0
PRODID:iCalendar-Evo
X-WR-TIMEZONE:America/New_York
BEGIN:VEVENT
DTSTAMP:20260420THI1314Z
URL:https://www.upperdarby.org/events/40893/
DTSTART;TZID=America/New_York:20260518T190000
SUMMARY:Library Board Meeting
DESCRIPTION:Meetings are held in the Adult Area of Sellers Memorial Branch.  All board meetings are open to the public. Time will be provided for public comment at the end of the meeting. Library patrons will have access to all services as usual, but there will be less seating available for general library use. For additional information, please contact Jennifer Stock, Library Director, at uddirector@delcolibraries.org or 610-789-4440.  Please visit www.udlibraries.org/libraryboard for the most up to date meeting information. 
LOCATION:Sellers Memorial Free Library at , Upper Darby, Pennsylvania 19082
GEO:39.96232309266554;-75.27323694615363
UID:6ccaefbd-f1f1-4b69-ba34-84179114d2ec20260518T230000@www.upperdarby.org
END:VEVENT
END:VCALENDAR